BEGIN:VCALENDAR
VERSION:2.0
PRODID:-//Tukios.com/
BEGIN:VEVENT
UID:23c8113e-e94f-4125-9895-faf4e8d9f037@www.claytonthompson.com
DTSTAMP:20260422T182327Z
DTSTART:20260424T220000Z
DTEND:20260425T010000Z
SUMMARY:Visitation
DESCRIPTION:
URL:https://www.claytonthompson.com/obituaries/pedro-martinez
LOCATION: 5200 W. Parkway  Groves TX 77619
GEO:29.9375909;-93.9284021
END:VEVENT
END:VCALENDAR