BEGIN:VCALENDAR
VERSION:2.0
PRODID:-//Tukios.com/
BEGIN:VEVENT
UID:68179f49-5733-45a3-b50c-5172ca630d63@www.claytonthompson.com
DTSTAMP:20260422T182333Z
DTSTART:20260425T150000Z
DTEND:20260425T160000Z
SUMMARY:Graveside Service
DESCRIPTION:
URL:https://www.claytonthompson.com/obituaries/pedro-martinez
LOCATION: 3900 Twin City Highway  Groves TX 77619
GEO:29.93487;-93.926981
END:VEVENT
END:VCALENDAR