BEGIN:VCALENDAR
VERSION:2.0
PRODID:-//Tukios.com/
BEGIN:VEVENT
UID:0b551df1-bcaa-48a1-b3c9-6d0d72a87700@www.claytonthompson.com
DTSTAMP:20260422T182955Z
DTSTART:20260425T180000Z
DTEND:20260425T190000Z
SUMMARY:Memorial Service
DESCRIPTION:
URL:https://www.claytonthompson.com/obituaries/pedro-martinez
LOCATION: 2615 Memorial Blvd.  Port Arthur TX 77640
GEO:29.9045207;-93.9379768
END:VEVENT
END:VCALENDAR